BEGIN:VCALENDAR
VERSION:2.0
PRODID:-//Tallebudgera Pony Club - ECPv5.10.1//NONSGML v1.0//EN
CALSCALE:GREGORIAN
METHOD:PUBLISH
X-WR-CALNAME:Tallebudgera Pony Club
X-ORIGINAL-URL:https://www.tallebudgeraponyclub.com
X-WR-CALDESC:Events for Tallebudgera Pony Club
BEGIN:VTIMEZONE
TZID:Australia/Melbourne
BEGIN:STANDARD
TZOFFSETFROM:+1100
TZOFFSETTO:+1000
TZNAME:AEST
DTSTART:20240406T160000
END:STANDARD
BEGIN:DAYLIGHT
TZOFFSETFROM:+1000
TZOFFSETTO:+1100
TZNAME:AEDT
DTSTART:20241005T160000
END:DAYLIGHT
END:VTIMEZONE
BEGIN:VEVENT
DTSTART;TZID=Australia/Melbourne:20240217T130000
DTEND;TZID=Australia/Melbourne:20240217T160000
DTSTAMP:20260419T221822
CREATED:20220221T230034Z
LAST-MODIFIED:20240203T063301Z
UID:2605-1708174800-1708185600@www.tallebudgeraponyclub.com
SUMMARY:Rally Day
DESCRIPTION:Come along to our First Rally and Sign Up Day of 2024 at Tallebudgera Pony Club! \n\n\n\nWhy you’d love our rally days: \n\n\n\n Two a month! 1st Sunday of the month (9am start) and 3rd Saturday (1pm start). State of the art equestrian facilities including a full cross country course with water jumps\, ditches and banks\, an extensive show jumping area\, two large sand arenas (one undercover) and a grass dressage arena. Learn horsemanship and riding skills from our experienced instructors including dressage\, jumping\, working equitation\, gymkhana games\, desensitisation obstacle course\, cross country and trail riding skills. A friendly\, supportive and social club with members of all ages. \n\n\n\nWhat to bring: Halter Extra long lead rope for our groundwork sessions Bucket for water and hay net Body protector for cross country Tack for both dressage and jumping disciplines (if you have it) Horse health declaration form \n\n\n\nWhen you arrive tie your horse to your float or use one of our many stalls (the ones with names on are reserved for the RDA horses) and head to the office to hand in your horse health declaration form. \n\n\n\nIf using a stall remember to keep a halter on your horse for safety reasons and to remove horse manure before leaving. \n\n\n\nTack up and head to the grass between the indoor arena and the dressage grass arena for gear check at 1pm. \n\n\n\nCanteen will be available during the rally for drinks\, lollies\, hot chips and more!  \n\n\n\nIf you require your uniform and saddle cloth beforehand the uniform shop will be open 3:30-6:30pm Saturday the 3rd February.
URL:https://www.tallebudgeraponyclub.com/event/rally-day/
LOCATION:Tallebudgera Pony Club\, 9 Andrews Road\, Tallebudgera\, 4218\, Australia
CATEGORIES:Rally Day
ATTACH;FMTTYPE=image/png:https://www.tallebudgeraponyclub.com/wp-content/uploads/2022/02/Tallebudgera-Pony-Club-Rally-Day-FB-event-cover-photo.png
END:VEVENT
END:VCALENDAR