BEGIN:VCALENDAR
VERSION:2.0
PRODID:-//Tallebudgera Pony Club - ECPv5.10.1//NONSGML v1.0//EN
CALSCALE:GREGORIAN
METHOD:PUBLISH
X-WR-CALNAME:Tallebudgera Pony Club
X-ORIGINAL-URL:https://www.tallebudgeraponyclub.com
X-WR-CALDESC:Events for Tallebudgera Pony Club
BEGIN:VTIMEZONE
TZID:Australia/Melbourne
BEGIN:STANDARD
TZOFFSETFROM:+1100
TZOFFSETTO:+1000
TZNAME:AEST
DTSTART:20260404T160000
END:STANDARD
BEGIN:DAYLIGHT
TZOFFSETFROM:+1000
TZOFFSETTO:+1100
TZNAME:AEDT
DTSTART:20261003T160000
END:DAYLIGHT
END:VTIMEZONE
BEGIN:VEVENT
DTSTART;TZID=Australia/Melbourne:20260329T080000
DTEND;TZID=Australia/Melbourne:20260329T160000
DTSTAMP:20260421T201232
CREATED:20251230T040930Z
LAST-MODIFIED:20260308T062256Z
UID:3845-1774771200-1774800000@www.tallebudgeraponyclub.com
SUMMARY:Open Showjumping at Tallebudgera Pony Club
DESCRIPTION:Details to come! This is an Open event\, which means it is open to everyone including riders without a Pony Club membership. \n\n\n\nTallebudgera Pony Club’s Open Derby is an open event (meaning any rider can enter\, you don’t need to be a Pony Club or EA member) with showjumping and a derby round. A derby is a round with show jumps and cross country jumps (a body protector is required if entering the derby). \n\n\n\nHeights from 45cm – 120cm+ classes. \n\n\n\nNominate on the day. \n\n\n\nDetails to come! This is an Open event\, which means it is open to everyone including riders without a Pony Club membership. \n\n\n\nTallebudgera Pony Club’s Open Showjumping is an open event (meaning any rider can enter\, you don’t need to be a Pony Club or EA member). \n\n\n\nHeights from 45cm – 120cm+ classes. \n\n\n\nNominate on the day. \n\n\n\nShowjumping only with 2 rings. No Derby due to officials availability. \n\n\n\nMore details released soon. \n\n\n\nCanteen facilities are available all-dayNo Help No Ride for all Tallebudgera Pony Club Members \n\n\n\nThank you to our wonderful sponsors for supporting this event:PRD Real Estate Burleigh Heads John & Shelley TeamGurnett Plumbing SolutionsHorseland Gold CoastHuds and TokeCavaleira EquestrianBernie’s Produce – AdvancetownMark Innes Farrier ServicesEllconys Designs AustraliaTeese Trading StockfeedsEquinadeGoodwoods Saddlery \n\n\n\nView the Facebook event page for the latest updates on this event.
URL:https://www.tallebudgeraponyclub.com/event/tbc-open-showjumping-derby-at-tallebudgera-pony-club/
LOCATION:Tallebudgera Pony Club\, 9 Andrews Road\, Tallebudgera\, 4218\, Australia
CATEGORIES:Event,Showjumping Derby
ATTACH;FMTTYPE=image/png:https://www.tallebudgeraponyclub.com/wp-content/uploads/2024/02/TPC-logo-1.png
END:VEVENT
END:VCALENDAR