BEGIN:VCALENDAR
VERSION:2.0
PRODID:-//Tallebudgera Pony Club - ECPv5.10.1//NONSGML v1.0//EN
CALSCALE:GREGORIAN
METHOD:PUBLISH
X-WR-CALNAME:Tallebudgera Pony Club
X-ORIGINAL-URL:https://www.tallebudgeraponyclub.com
X-WR-CALDESC:Events for Tallebudgera Pony Club
BEGIN:VTIMEZONE
TZID:Australia/Melbourne
BEGIN:STANDARD
TZOFFSETFROM:+1100
TZOFFSETTO:+1000
TZNAME:AEST
DTSTART:20240406T160000
END:STANDARD
BEGIN:DAYLIGHT
TZOFFSETFROM:+1000
TZOFFSETTO:+1100
TZNAME:AEDT
DTSTART:20241005T160000
END:DAYLIGHT
END:VTIMEZONE
BEGIN:VEVENT
DTSTART;TZID=Australia/Melbourne:20241007T080000
DTEND;TZID=Australia/Melbourne:20241007T160000
DTSTAMP:20260421T000644
CREATED:20240215T060025Z
LAST-MODIFIED:20240902T224516Z
UID:3433-1728288000-1728316800@www.tallebudgeraponyclub.com
SUMMARY:Tallebudgera Pony Club 60th Anniversary Dressage & Combined Training
DESCRIPTION:Nominate here\n\n\n\n\nFull programme & details can be found on Nominate here. \n\n\n\nView the Facebook event page for the latest updates on this event.
URL:https://www.tallebudgeraponyclub.com/event/tallebudgera-pony-club-60th-anniversary-dressage-combined-training/
LOCATION:Tallebudgera Pony Club\, 9 Andrews Road\, Tallebudgera\, 4218\, Australia
CATEGORIES:Dressage & Combined Training,Event
ATTACH;FMTTYPE=image/png:https://www.tallebudgeraponyclub.com/wp-content/uploads/2024/02/TPC-logo-1.png
END:VEVENT
END:VCALENDAR